BEGIN:VCALENDAR
PRODID:-//Microsoft Corporation//Outlook 16.0 MIMEDIR//EN
VERSION:2.0
METHOD:REQUEST
X-MS-OLK-FORCEINSPECTOROPEN:TRUE
BEGIN:VTIMEZONE
TZID:Romance Standard Time
BEGIN:STANDARD
DTSTART:16011028T030000
RRULE:FREQ=YEARLY;BYDAY=-1SU;BYMONTH=10
TZOFFSETFROM:+0200
TZOFFSETTO:+0100
END:STANDARD
BEGIN:DAYLIGHT
DTSTART:16010325T020000
RRULE:FREQ=YEARLY;BYDAY=-1SU;BYMONTH=3
TZOFFSETFROM:+0100
TZOFFSETTO:+0200
END:DAYLIGHT
END:VTIMEZONE
BEGIN:VEVENT
ATTENDEE;CN="thevaranchan devamadushan";RSVP=FALSE:mailto:thevaran@bio.ens.
	psl.eu
ATTENDEE;CN="Clément Alibert";RSVP=FALSE:mailto:alibert@bio.ens.psl.eu
CLASS:PUBLIC
CREATED:20260414T094828Z
DESCRIPTION:Speaker: Deva Thevaranchan \n\nTitle : Brahma\, simplifying acc
	ess of Machine learning and data treatments\n\nAbstract : Brahma is a tool
	 simplifying the creation and use of AI models without requiring code skil
	ls. Brahma allows the user to generate\, to train\, to test and to use AI 
	models that Brahma will creates accordingly to user's datasets and configu
	ration choice. Brahma is also developed to help with analysing big dataset
	s or meta data with pre-configured tools showing performances factors and 
	quality indicators.\n\n \n\n______________________________________________
	__________________________________\n\nMicrosoft Teams meeting \n\nJoin: ht
	tps://teams.microsoft.com/meet/33316771673664?p=vM0Em2zoiyS9DA6Prk <https:
	//teams.microsoft.com/meet/33316771673664?p=vM0Em2zoiyS9DA6Prk>  \n\nMeeti
	ng ID: 333 167 716 736 64 \n\nPasscode: Qc7tP65L \n\n_____________________
	___________\n\nNeed help? <https://aka.ms/JoinTeamsMeeting?omkt=en-US>  | 
	System reference <https://teams.microsoft.com/l/meetup-join/19%3ameeting_N
	DA1OTVjMjQtOWRiNi00ZjdhLTgwNjgtNGYzMDI5OWJkYTNi%40thread.v2/0?context=%7b%
	22Tid%22%3a%22cc861970-0d4a-4639-8dc3-b00518c72525%22%2c%22Oid%22%3a%2266d
	bd589-f215-45b2-bb41-8aa999aa2b5f%22%7d>  \n\nFor organizers: Meeting opti
	ons <https://teams.microsoft.com/meetingOptions/?organizerId=66dbd589-f215
	-45b2-bb41-8aa999aa2b5f&tenantId=cc861970-0d4a-4639-8dc3-b00518c72525&thre
	adId=19_meeting_NDA1OTVjMjQtOWRiNi00ZjdhLTgwNjgtNGYzMDI5OWJkYTNi@thread.v2
	&messageId=0&language=en-US>  \n\n________________________________________
	________________________________________\n\n \n\n
DTEND;TZID="Romance Standard Time":20260430T110000
DTSTAMP:20260414T094252Z
DTSTART;TZID="Romance Standard Time":20260430T100000
LAST-MODIFIED:20260414T094828Z
LOCATION:Microsoft Teams Meeting
ORGANIZER;CN="Rachel Eleanor Burns":invalid:nomail
PRIORITY:5
SEQUENCE:4
SUMMARY;LANGUAGE=da:AnaEE TechUp! - Brahma: simplifying access of Machine l
	earning and data treatments
TRANSP:OPAQUE
UID:040000008200E00074C5B7101A82E00800000000709638693FBCDC01000000000000000
	01000000011830A4788A64041B98C38D2C50EE9E0
X-ALT-DESC;FMTTYPE=text/html:<html xmlns:v="urn:schemas-microsoft-com:vml" 
	xmlns:o="urn:schemas-microsoft-com:office:office" xmlns:w="urn:schemas-mic
	rosoft-com:office:word" xmlns:m="http://schemas.microsoft.com/office/2004/
	12/omml" xmlns="http://www.w3.org/TR/REC-html40"><head><meta name=Generato
	r content="Microsoft Word 15 (filtered medium)"><!--[if !mso]><style>v\\:*
	 {behavior:url(#default#VML)\;}\no\\:* {behavior:url(#default#VML)\;}\nw\\
	:* {behavior:url(#default#VML)\;}\n.shape {behavior:url(#default#VML)\;}\n
	</style><![endif]--><style><!--\n/* Font Definitions */\n@font-face\n	{fon
	t-family:"Cambria Math"\;\n	panose-1:2 4 5 3 5 4 6 3 2 4\;}\n@font-face\n	
	{font-family:Aptos\;}\n@font-face\n	{font-family:"Segoe UI"\;\n	panose-1:2
	 11 5 2 4 2 4 2 2 3\;}\n/* Style Definitions */\np.MsoNormal\, li.MsoNorma
	l\, div.MsoNormal\n	{margin:0cm\;\n	font-size:11.0pt\;\n	font-family:"Apto
	s"\,sans-serif\;\n	mso-ligatures:standardcontextual\;\n	mso-fareast-langua
	ge:EN-US\;}\na:link\, span.MsoHyperlink\n	{mso-style-priority:99\;\n	color
	:#467886\;\n	text-decoration:underline\;}\nspan.EmailStyle18\n	{mso-style-
	type:personal-compose\;\n	font-family:"Aptos"\,sans-serif\;\n	color:window
	text\;}\nspan.me-email-text\n	{mso-style-name:me-email-text\;}\nspan.me-em
	ail-text-secondary\n	{mso-style-name:me-email-text-secondary\;}\n.MsoChpDe
	fault\n	{mso-style-type:export-only\;\n	font-size:10.0pt\;\n	mso-ligatures
	:none\;}\n@page WordSection1\n	{size:612.0pt 792.0pt\;\n	margin:72.0pt 72.
	0pt 72.0pt 72.0pt\;}\ndiv.WordSection1\n	{page:WordSection1\;}\n--></style
	><!--[if gte mso 9]><xml>\n<o:shapedefaults v:ext="edit" spidmax="1026" />
	\n</xml><![endif]--><!--[if gte mso 9]><xml>\n<o:shapelayout v:ext="edit">
	\n<o:idmap v:ext="edit" data="1" />\n</o:shapelayout></xml><![endif]--></h
	ead><body lang=EN-GB link="#467886" vlink="#96607D" style='word-wrap:break
	-word'><div class=WordSection1><p class=MsoNormal><span style='color:black
	'>Speaker: Deva Thevaranchan&nbsp\;<o:p></o:p></span></p><p><span style='c
	olor:black'>Title : Brahma\, simplifying access of Machine learning and da
	ta treatments</span><o:p></o:p></p><p><span style='color:black'>Abstract :
	&nbsp\;Brahma is a tool simplifying the creation and use of AI models with
	out requiring code skills. Brahma allows the user to generate\, to train\,
	 to test and to use AI models that Brahma will creates accordingly to user
	's datasets and configuration choice. Brahma is also developed to help wit
	h analysing big datasets or meta data with pre-configured tools showing pe
	rformances factors and quality indicators.</span><o:p></o:p></p><p class=M
	soNormal><o:p>&nbsp\;</o:p></p><div><div style='margin-bottom:18.0pt\;over
	flow:hidden'><p class=MsoNormal><span lang=EN-US style='font-family:"Segoe
	 UI"\,sans-serif\;color:#242424'>_________________________________________
	_______________________________________</span><span lang=EN-US style='font
	-size:12.0pt\;font-family:"Segoe UI"\,sans-serif\;color:#242424\;mso-ligat
	ures:none'><o:p></o:p></span></p></div><div style='margin-bottom:9.0pt'><p
	 class=MsoNormal><span class=me-email-text><b><span lang=EN-US style='font
	-size:15.0pt\;font-family:"Segoe UI"\,sans-serif\;color:#242424'>Microsoft
	 Teams meeting</span></b></span><span lang=EN-US style='font-family:"Segoe
	 UI"\,sans-serif\;color:#242424'> <o:p></o:p></span></p></div><div style='
	margin-bottom:4.5pt\;overflow-wrap: break-word'><p class=MsoNormal><span c
	lass=me-email-text><b><span lang=EN-US style='font-size:15.0pt\;font-famil
	y:"Segoe UI"\,sans-serif\;color:#242424'>Join: </span></b></span><span lan
	g=EN-US style='font-family:"Segoe UI"\,sans-serif\;color:#242424'><a href=
	"https://teams.microsoft.com/meet/33316771673664?p=vM0Em2zoiyS9DA6Prk" tit
	le="Meeting join"><span style='font-size:15.0pt\;color:#5B5FC7'>https://te
	ams.microsoft.com/meet/33316771673664?p=vM0Em2zoiyS9DA6Prk</span></a> <o:p
	></o:p></span></p></div><div style='margin-bottom:4.5pt'><p class=MsoNorma
	l><span class=me-email-text-secondary><span lang=EN-US style='font-size:10
	.5pt\;font-family:"Segoe UI"\,sans-serif\;color:#616161'>Meeting ID: </spa
	n></span><span class=me-email-text><span lang=EN-US style='font-size:10.5p
	t\;font-family:"Segoe UI"\,sans-serif\;color:#242424'>333 167 716 736 64</
	span></span><span lang=EN-US style='font-family:"Segoe UI"\,sans-serif\;co
	lor:#242424'> <o:p></o:p></span></p></div><div style='margin-bottom:24.0pt
	'><p class=MsoNormal><span class=me-email-text-secondary><span lang=EN-US 
	style='font-size:10.5pt\;font-family:"Segoe UI"\,sans-serif\;color:#616161
	'>Passcode: </span></span><span class=me-email-text><span lang=EN-US style
	='font-size:10.5pt\;font-family:"Segoe UI"\,sans-serif\;color:#242424'>Qc7
	tP65L</span></span><span lang=EN-US style='font-family:"Segoe UI"\,sans-se
	rif\;color:#242424'> <o:p></o:p></span></p></div><div style='margin-bottom
	:9.0pt'><div class=MsoNormal align=center style='text-align:center'><span 
	lang=EN-US style='font-family:"Segoe UI"\,sans-serif\;color:#242424'><hr s
	ize=1 width="100%" align=center></span></div></div><div style='margin-bott
	om:18.0pt'><p class=MsoNormal><span lang=EN-US style='font-family:"Segoe U
	I"\,sans-serif\;color:#242424'><a href="https://aka.ms/JoinTeamsMeeting?om
	kt=en-US"><span style='font-size:10.5pt\;color:#5B5FC7'>Need help?</span><
	/a> </span><span lang=EN-US style='font-family:"Segoe UI"\,sans-serif\;col
	or:#616161'>|</span><span lang=EN-US style='font-family:"Segoe UI"\,sans-s
	erif\;color:#242424'> <a href="https://teams.microsoft.com/l/meetup-join/1
	9%3ameeting_NDA1OTVjMjQtOWRiNi00ZjdhLTgwNjgtNGYzMDI5OWJkYTNi%40thread.v2/0
	?context=%7b%22Tid%22%3a%22cc861970-0d4a-4639-8dc3-b00518c72525%22%2c%22Oi
	d%22%3a%2266dbd589-f215-45b2-bb41-8aa999aa2b5f%22%7d"><span style='font-si
	ze:10.5pt\;color:#5B5FC7'>System reference</span></a> <o:p></o:p></span></
	p></div><div><p class=MsoNormal><span class=me-email-text-secondary><span 
	lang=EN-US style='font-size:10.5pt\;font-family:"Segoe UI"\,sans-serif\;co
	lor:#616161'>For organizers: </span></span><span lang=EN-US style='font-fa
	mily:"Segoe UI"\,sans-serif\;color:#242424'><a href="https://teams.microso
	ft.com/meetingOptions/?organizerId=66dbd589-f215-45b2-bb41-8aa999aa2b5f&am
	p\;tenantId=cc861970-0d4a-4639-8dc3-b00518c72525&amp\;threadId=19_meeting_
	NDA1OTVjMjQtOWRiNi00ZjdhLTgwNjgtNGYzMDI5OWJkYTNi@thread.v2&amp\;messageId=
	0&amp\;language=en-US" target="_blank"><span style='font-size:10.5pt\;colo
	r:#5B5FC7'>Meeting options</span></a> <o:p></o:p></span></p></div><div sty
	le='margin-bottom:18.0pt\;overflow:hidden'><p class=MsoNormal><span lang=E
	N-US style='font-family:"Segoe UI"\,sans-serif\;color:#242424'>___________
	_____________________________________________________________________<o:p>
	</o:p></span></p></div></div><p class=MsoNormal><o:p>&nbsp\;</o:p></p></di
	v></body></html>
X-MICROSOFT-CDO-BUSYSTATUS:BUSY
X-MICROSOFT-CDO-IMPORTANCE:1
X-MICROSOFT-DISALLOW-COUNTER:FALSE
X-MS-OLK-APPTLASTSEQUENCE:4
X-MS-OLK-APPTSEQTIME:20260414T094252Z
X-MS-OLK-AUTOFILLLOCATION:FALSE
X-MS-OLK-CONFTYPE:0
BEGIN:VALARM
TRIGGER:-PT15M
ACTION:DISPLAY
DESCRIPTION:Reminder
END:VALARM
END:VEVENT
END:VCALENDAR
